BEGIN:VCALENDAR
VERSION:2.0
PRODID:-//秋田太平ドローン - ECPv6.15.20//NONSGML v1.0//EN
CALSCALE:GREGORIAN
METHOD:PUBLISH
X-ORIGINAL-URL:https://taihei-drone.com
X-WR-CALDESC:秋田太平ドローン のイベント
REFRESH-INTERVAL;VALUE=DURATION:PT1H
X-Robots-Tag:noindex
X-PUBLISHED-TTL:PT1H
BEGIN:VTIMEZONE
TZID:Asia/Tokyo
BEGIN:STANDARD
TZOFFSETFROM:+0900
TZOFFSETTO:+0900
TZNAME:JST
DTSTART:20250101T000000
END:STANDARD
END:VTIMEZONE
BEGIN:VEVENT
DTSTART;VALUE=DATE:20260209
DTEND;VALUE=DATE:20260214
DTSTAMP:20260423T073518
CREATED:20250906T031717Z
LAST-MODIFIED:20250906T031717Z
UID:5999-1770595200-1771027199@taihei-drone.com
SUMMARY:産業用ドローンコース【農業・点検コース教習】
DESCRIPTION:
URL:https://taihei-drone.com/event/%e7%94%a3%e6%a5%ad%e7%94%a8%e3%83%89%e3%83%ad%e3%83%bc%e3%83%b3%e3%82%b3%e3%83%bc%e3%82%b9%e3%80%90%e8%be%b2%e6%a5%ad%e3%83%bb%e7%82%b9%e6%a4%9c%e3%82%b3%e3%83%bc%e3%82%b9%e6%95%99%e7%bf%92%e3%80%91-6/
LOCATION:八郎潟太平自動車学校\, 真坂字鳥屋崎33\, 南秋田郡八郎潟町\, 秋田県\, 018-1601\, Japan
CATEGORIES:産業用ドローン
ORGANIZER;CN="%E7%A7%8B%E7%94%B0%E5%A4%AA%E5%B9%B3%E3%83%89%E3%83%AD%E3%83%BC%E3%83%B3%E3%82%B9%E3%82%AF%E3%83%BC%E3%83%AB":MAILTO:info@taihei-drone.com
END:VEVENT
BEGIN:VEVENT
DTSTART;VALUE=DATE:20260309
DTEND;VALUE=DATE:20260314
DTSTAMP:20260423T073518
CREATED:20250906T031808Z
LAST-MODIFIED:20250906T031808Z
UID:6006-1773014400-1773446399@taihei-drone.com
SUMMARY:産業用ドローンコース【農業・点検コース教習】
DESCRIPTION:
URL:https://taihei-drone.com/event/%e7%94%a3%e6%a5%ad%e7%94%a8%e3%83%89%e3%83%ad%e3%83%bc%e3%83%b3%e3%82%b3%e3%83%bc%e3%82%b9%e3%80%90%e8%be%b2%e6%a5%ad%e3%83%bb%e7%82%b9%e6%a4%9c%e3%82%b3%e3%83%bc%e3%82%b9%e6%95%99%e7%bf%92%e3%80%91-8/
LOCATION:八郎潟太平自動車学校\, 真坂字鳥屋崎33\, 南秋田郡八郎潟町\, 秋田県\, 018-1601\, Japan
CATEGORIES:産業用ドローン
ORGANIZER;CN="%E7%A7%8B%E7%94%B0%E5%A4%AA%E5%B9%B3%E3%83%89%E3%83%AD%E3%83%BC%E3%83%B3%E3%82%B9%E3%82%AF%E3%83%BC%E3%83%AB":MAILTO:info@taihei-drone.com
END:VEVENT
BEGIN:VEVENT
DTSTART;VALUE=DATE:20260413
DTEND;VALUE=DATE:20260418
DTSTAMP:20260423T073518
CREATED:20250224T043110Z
LAST-MODIFIED:20260309T130655Z
UID:5842-1776038400-1776470399@taihei-drone.com
SUMMARY:産業用ドローンコース【農業・点検コース教習】
DESCRIPTION:
URL:https://taihei-drone.com/event/%e7%94%a3%e6%a5%ad%e7%94%a8%e3%83%89%e3%83%ad%e3%83%bc%e3%83%b3%e3%82%b3%e3%83%bc%e3%82%b9%e3%80%90%e8%be%b2%e6%a5%ad%e3%83%bb%e7%82%b9%e6%a4%9c%e3%82%b3%e3%83%bc%e3%82%b9%e6%95%99%e7%bf%92%e3%80%91-7/
LOCATION:八郎潟太平自動車学校\, 真坂字鳥屋崎33\, 南秋田郡八郎潟町\, 秋田県\, 018-1601\, Japan
CATEGORIES:産業用ドローン
ORGANIZER;CN="%E7%A7%8B%E7%94%B0%E5%A4%AA%E5%B9%B3%E3%83%89%E3%83%AD%E3%83%BC%E3%83%B3%E3%82%B9%E3%82%AF%E3%83%BC%E3%83%AB":MAILTO:info@taihei-drone.com
END:VEVENT
BEGIN:VEVENT
DTSTART;VALUE=DATE:20260518
DTEND;VALUE=DATE:20260523
DTSTAMP:20260423T073518
CREATED:20250906T030211Z
LAST-MODIFIED:20260309T130723Z
UID:5995-1779062400-1779494399@taihei-drone.com
SUMMARY:産業用ドローンコース【農業・点検コース教習】
DESCRIPTION:
URL:https://taihei-drone.com/event/%e7%94%a3%e6%a5%ad%e7%94%a8%e3%83%89%e3%83%ad%e3%83%bc%e3%83%b3%e3%82%b3%e3%83%bc%e3%82%b9%e3%80%90%e8%be%b2%e6%a5%ad%e3%83%bb%e7%82%b9%e6%a4%9c%e3%82%b3%e3%83%bc%e3%82%b9%e6%95%99%e7%bf%92%e3%80%91/
LOCATION:八郎潟太平自動車学校\, 真坂字鳥屋崎33\, 南秋田郡八郎潟町\, 秋田県\, 018-1601\, Japan
CATEGORIES:産業用ドローン
ORGANIZER;CN="%E7%A7%8B%E7%94%B0%E5%A4%AA%E5%B9%B3%E3%83%89%E3%83%AD%E3%83%BC%E3%83%B3%E3%82%B9%E3%82%AF%E3%83%BC%E3%83%AB":MAILTO:info@taihei-drone.com
END:VEVENT
BEGIN:VEVENT
DTSTART;VALUE=DATE:20260608
DTEND;VALUE=DATE:20260613
DTSTAMP:20260423T073518
CREATED:20250906T030241Z
LAST-MODIFIED:20260309T130751Z
UID:5996-1780876800-1781308799@taihei-drone.com
SUMMARY:産業用ドローンコース【農業・点検コース教習】
DESCRIPTION:
URL:https://taihei-drone.com/event/%e7%94%a3%e6%a5%ad%e7%94%a8%e3%83%89%e3%83%ad%e3%83%bc%e3%83%b3%e3%82%b3%e3%83%bc%e3%82%b9%e3%80%90%e8%be%b2%e6%a5%ad%e3%83%bb%e7%82%b9%e6%a4%9c%e3%82%b3%e3%83%bc%e3%82%b9%e6%95%99%e7%bf%92%e3%80%91-2/
LOCATION:八郎潟太平自動車学校\, 真坂字鳥屋崎33\, 南秋田郡八郎潟町\, 秋田県\, 018-1601\, Japan
CATEGORIES:産業用ドローン
ORGANIZER;CN="%E7%A7%8B%E7%94%B0%E5%A4%AA%E5%B9%B3%E3%83%89%E3%83%AD%E3%83%BC%E3%83%B3%E3%82%B9%E3%82%AF%E3%83%BC%E3%83%AB":MAILTO:info@taihei-drone.com
END:VEVENT
BEGIN:VEVENT
DTSTART;VALUE=DATE:20260713
DTEND;VALUE=DATE:20260718
DTSTAMP:20260423T073518
CREATED:20250906T030309Z
LAST-MODIFIED:20260309T130826Z
UID:5997-1783900800-1784332799@taihei-drone.com
SUMMARY:産業用ドローンコース【農業・点検コース教習】
DESCRIPTION:
URL:https://taihei-drone.com/event/%e7%94%a3%e6%a5%ad%e7%94%a8%e3%83%89%e3%83%ad%e3%83%bc%e3%83%b3%e3%82%b3%e3%83%bc%e3%82%b9%e3%80%90%e8%be%b2%e6%a5%ad%e3%83%bb%e7%82%b9%e6%a4%9c%e3%82%b3%e3%83%bc%e3%82%b9%e6%95%99%e7%bf%92%e3%80%91-3/
LOCATION:八郎潟太平自動車学校\, 真坂字鳥屋崎33\, 南秋田郡八郎潟町\, 秋田県\, 018-1601\, Japan
CATEGORIES:産業用ドローン
ORGANIZER;CN="%E7%A7%8B%E7%94%B0%E5%A4%AA%E5%B9%B3%E3%83%89%E3%83%AD%E3%83%BC%E3%83%B3%E3%82%B9%E3%82%AF%E3%83%BC%E3%83%AB":MAILTO:info@taihei-drone.com
END:VEVENT
BEGIN:VEVENT
DTSTART;VALUE=DATE:20260817
DTEND;VALUE=DATE:20260822
DTSTAMP:20260423T073518
CREATED:20250906T031613Z
LAST-MODIFIED:20260309T130901Z
UID:5998-1786924800-1787356799@taihei-drone.com
SUMMARY:産業用ドローンコース【農業・点検コース教習】
DESCRIPTION:
URL:https://taihei-drone.com/event/%e7%94%a3%e6%a5%ad%e7%94%a8%e3%83%89%e3%83%ad%e3%83%bc%e3%83%b3%e3%82%b3%e3%83%bc%e3%82%b9%e3%80%90%e8%be%b2%e6%a5%ad%e3%83%bb%e7%82%b9%e6%a4%9c%e3%82%b3%e3%83%bc%e3%82%b9%e6%95%99%e7%bf%92%e3%80%91-4/
LOCATION:八郎潟太平自動車学校\, 真坂字鳥屋崎33\, 南秋田郡八郎潟町\, 秋田県\, 018-1601\, Japan
CATEGORIES:産業用ドローン
ORGANIZER;CN="%E7%A7%8B%E7%94%B0%E5%A4%AA%E5%B9%B3%E3%83%89%E3%83%AD%E3%83%BC%E3%83%B3%E3%82%B9%E3%82%AF%E3%83%BC%E3%83%AB":MAILTO:info@taihei-drone.com
END:VEVENT
BEGIN:VEVENT
DTSTART;VALUE=DATE:20260907
DTEND;VALUE=DATE:20260912
DTSTAMP:20260423T073518
CREATED:20250906T031640Z
LAST-MODIFIED:20260309T130937Z
UID:5994-1788739200-1789171199@taihei-drone.com
SUMMARY:産業用ドローンコース【農業・点検コース教習】
DESCRIPTION:
URL:https://taihei-drone.com/event/%e7%94%a3%e6%a5%ad%e7%94%a8%e3%83%89%e3%83%ad%e3%83%bc%e3%83%b3%e3%82%b3%e3%83%bc%e3%82%b9%e3%80%90%e8%be%b2%e6%a5%ad%e3%83%bb%e7%82%b9%e6%a4%9c%e3%82%b3%e3%83%bc%e3%82%b9%e6%95%99%e7%bf%92%e3%80%91-5/
LOCATION:八郎潟太平自動車学校\, 真坂字鳥屋崎33\, 南秋田郡八郎潟町\, 秋田県\, 018-1601\, Japan
CATEGORIES:産業用ドローン
ORGANIZER;CN="%E7%A7%8B%E7%94%B0%E5%A4%AA%E5%B9%B3%E3%83%89%E3%83%AD%E3%83%BC%E3%83%B3%E3%82%B9%E3%82%AF%E3%83%BC%E3%83%AB":MAILTO:info@taihei-drone.com
END:VEVENT
END:VCALENDAR