BEGIN:VCALENDAR
VERSION:2.0
PRODID:-//秋田太平ドローン - ECPv6.15.20//NONSGML v1.0//EN
CALSCALE:GREGORIAN
METHOD:PUBLISH
X-WR-CALNAME:秋田太平ドローン
X-ORIGINAL-URL:https://taihei-drone.com
X-WR-CALDESC:秋田太平ドローン のイベント
REFRESH-INTERVAL;VALUE=DURATION:PT1H
X-Robots-Tag:noindex
X-PUBLISHED-TTL:PT1H
BEGIN:VTIMEZONE
TZID:Asia/Tokyo
BEGIN:STANDARD
TZOFFSETFROM:+0900
TZOFFSETTO:+0900
TZNAME:JST
DTSTART:20230101T000000
END:STANDARD
END:VTIMEZONE
BEGIN:VEVENT
DTSTART;TZID=Asia/Tokyo:20260418T100000
DTEND;TZID=Asia/Tokyo:20260418T153000
DTSTAMP:20260420T150633
CREATED:20250906T022349Z
LAST-MODIFIED:20260227T000601Z
UID:5926-1776506400-1776526200@taihei-drone.com
SUMMARY:空撮無料説明会（午前・午後）
DESCRIPTION:午前10：00～12：00 \n午後13：30～15：30
URL:https://taihei-drone.com/event/%e7%a9%ba%e6%92%ae%e7%84%a1%e6%96%99%e8%aa%ac%e6%98%8e%e4%bc%9a/
LOCATION:秋田太平自動車学校\, 寺内高野１１−１\, 秋田市\, 秋田県\, 011-0937\, Japan
CATEGORIES:無料説明会
ORGANIZER;CN="%E7%A7%8B%E7%94%B0%E5%A4%AA%E5%B9%B3%E3%83%89%E3%83%AD%E3%83%BC%E3%83%B3%E3%82%B9%E3%82%AF%E3%83%BC%E3%83%AB":MAILTO:info@taihei-drone.com
END:VEVENT
BEGIN:VEVENT
DTSTART;VALUE=DATE:20260413
DTEND;VALUE=DATE:20260418
DTSTAMP:20260420T150633
CREATED:20250224T043110Z
LAST-MODIFIED:20260309T130655Z
UID:5842-1776038400-1776470399@taihei-drone.com
SUMMARY:産業用ドローンコース【農業・点検コース教習】
DESCRIPTION:
URL:https://taihei-drone.com/event/%e7%94%a3%e6%a5%ad%e7%94%a8%e3%83%89%e3%83%ad%e3%83%bc%e3%83%b3%e3%82%b3%e3%83%bc%e3%82%b9%e3%80%90%e8%be%b2%e6%a5%ad%e3%83%bb%e7%82%b9%e6%a4%9c%e3%82%b3%e3%83%bc%e3%82%b9%e6%95%99%e7%bf%92%e3%80%91-7/
LOCATION:八郎潟太平自動車学校\, 真坂字鳥屋崎33\, 南秋田郡八郎潟町\, 秋田県\, 018-1601\, Japan
CATEGORIES:産業用ドローン
ORGANIZER;CN="%E7%A7%8B%E7%94%B0%E5%A4%AA%E5%B9%B3%E3%83%89%E3%83%AD%E3%83%BC%E3%83%B3%E3%82%B9%E3%82%AF%E3%83%BC%E3%83%AB":MAILTO:info@taihei-drone.com
END:VEVENT
BEGIN:VEVENT
DTSTART;VALUE=DATE:20260407
DTEND;VALUE=DATE:20260411
DTSTAMP:20260420T150633
CREATED:20250224T014529Z
LAST-MODIFIED:20260227T003558Z
UID:5795-1775520000-1775865599@taihei-drone.com
SUMMARY:国家ライセンス初学者コース【４～５日間】
DESCRIPTION:
URL:https://taihei-drone.com/event/%e5%9b%bd%e5%ae%b6%e3%83%a9%e3%82%a4%e3%82%bb%e3%83%b3%e3%82%b9%e5%88%9d%e5%ad%a6%e8%80%85%e3%82%b3%e3%83%bc%e3%82%b9%e3%80%90%ef%bc%94%ef%bd%9e%ef%bc%95%e6%97%a5%e9%96%93%e3%80%91-8/
LOCATION:秋田太平自動車学校\, 寺内高野１１−１\, 秋田市\, 秋田県\, 011-0937\, Japan
CATEGORIES:国家ライセンス初学者
ORGANIZER;CN="%E7%A7%8B%E7%94%B0%E5%A4%AA%E5%B9%B3%E3%83%89%E3%83%AD%E3%83%BC%E3%83%B3%E3%82%B9%E3%82%AF%E3%83%BC%E3%83%AB":MAILTO:info@taihei-drone.com
END:VEVENT
BEGIN:VEVENT
DTSTART;VALUE=DATE:20260402
DTEND;VALUE=DATE:20260404
DTSTAMP:20260420T150633
CREATED:20250224T042352Z
LAST-MODIFIED:20260227T005549Z
UID:5825-1775088000-1775260799@taihei-drone.com
SUMMARY:国家ライセンス経験者コース【２～３日間】
DESCRIPTION:
URL:https://taihei-drone.com/event/%e5%9b%bd%e5%ae%b6%e3%83%a9%e3%82%a4%e3%82%bb%e3%83%b3%e3%82%b9%e7%b5%8c%e9%a8%93%e8%80%85%e3%82%b3%e3%83%bc%e3%82%b9%e3%80%90%ef%bc%92%ef%bd%9e%ef%bc%93%e6%97%a5%e9%96%93%e3%80%91-7/
LOCATION:秋田太平自動車学校\, 寺内高野１１−１\, 秋田市\, 秋田県\, 011-0937\, Japan
CATEGORIES:国家ライセンス経験者
ORGANIZER;CN="%E7%A7%8B%E7%94%B0%E5%A4%AA%E5%B9%B3%E3%83%89%E3%83%AD%E3%83%BC%E3%83%B3%E3%82%B9%E3%82%AF%E3%83%BC%E3%83%AB":MAILTO:info@taihei-drone.com
END:VEVENT
BEGIN:VEVENT
DTSTART;VALUE=DATE:20260324
DTEND;VALUE=DATE:20260328
DTSTAMP:20260420T150633
CREATED:20250906T025350Z
LAST-MODIFIED:20250906T025350Z
UID:5971-1774310400-1774655999@taihei-drone.com
SUMMARY:国家ライセンス初学者コース【４～５日間】
DESCRIPTION:
URL:https://taihei-drone.com/event/%e5%9b%bd%e5%ae%b6%e3%83%a9%e3%82%a4%e3%82%bb%e3%83%b3%e3%82%b9%e5%88%9d%e5%ad%a6%e8%80%85%e3%82%b3%e3%83%bc%e3%82%b9%e3%80%90%ef%bc%94%ef%bd%9e%ef%bc%95%e6%97%a5%e9%96%93%e3%80%91-11/
LOCATION:秋田太平自動車学校\, 寺内高野１１−１\, 秋田市\, 秋田県\, 011-0937\, Japan
CATEGORIES:国家ライセンス初学者
ORGANIZER;CN="%E7%A7%8B%E7%94%B0%E5%A4%AA%E5%B9%B3%E3%83%89%E3%83%AD%E3%83%BC%E3%83%B3%E3%82%B9%E3%82%AF%E3%83%BC%E3%83%AB":MAILTO:info@taihei-drone.com
END:VEVENT
BEGIN:VEVENT
DTSTART;VALUE=DATE:20260318
DTEND;VALUE=DATE:20260320
DTSTAMP:20260420T150633
CREATED:20250906T025925Z
LAST-MODIFIED:20250906T025925Z
UID:5986-1773792000-1773964799@taihei-drone.com
SUMMARY:国家ライセンス経験者コース【２～３日間】
DESCRIPTION:
URL:https://taihei-drone.com/event/%e5%9b%bd%e5%ae%b6%e3%83%a9%e3%82%a4%e3%82%bb%e3%83%b3%e3%82%b9%e7%b5%8c%e9%a8%93%e8%80%85%e3%82%b3%e3%83%bc%e3%82%b9%e3%80%90%ef%bc%92%ef%bd%9e%ef%bc%93%e6%97%a5%e9%96%93%e3%80%91-6/
LOCATION:秋田太平自動車学校\, 寺内高野１１−１\, 秋田市\, 秋田県\, 011-0937\, Japan
CATEGORIES:国家ライセンス経験者
ORGANIZER;CN="%E7%A7%8B%E7%94%B0%E5%A4%AA%E5%B9%B3%E3%83%89%E3%83%AD%E3%83%BC%E3%83%B3%E3%82%B9%E3%82%AF%E3%83%BC%E3%83%AB":MAILTO:info@taihei-drone.com
END:VEVENT
BEGIN:VEVENT
DTSTART;TZID=Asia/Tokyo:20260317T100000
DTEND;TZID=Asia/Tokyo:20260317T153000
DTSTAMP:20260420T150633
CREATED:20250906T024202Z
LAST-MODIFIED:20250906T024202Z
UID:5956-1773741600-1773761400@taihei-drone.com
SUMMARY:空撮無料説明会（午前・午後）
DESCRIPTION:午前10：00～12：00 \n午後13：30～15：30
URL:https://taihei-drone.com/event/%e7%a9%ba%e6%92%ae%e7%84%a1%e6%96%99%e8%aa%ac%e6%98%8e%e4%bc%9a%ef%bc%88%e5%8d%88%e5%89%8d%e3%83%bb%e5%8d%88%e5%be%8c%ef%bc%89-10/
LOCATION:秋田太平自動車学校\, 寺内高野１１−１\, 秋田市\, 秋田県\, 011-0937\, Japan
CATEGORIES:無料説明会
ORGANIZER;CN="%E7%A7%8B%E7%94%B0%E5%A4%AA%E5%B9%B3%E3%83%89%E3%83%AD%E3%83%BC%E3%83%B3%E3%82%B9%E3%82%AF%E3%83%BC%E3%83%AB":MAILTO:info@taihei-drone.com
END:VEVENT
BEGIN:VEVENT
DTSTART;VALUE=DATE:20260309
DTEND;VALUE=DATE:20260314
DTSTAMP:20260420T150633
CREATED:20250906T031808Z
LAST-MODIFIED:20250906T031808Z
UID:6006-1773014400-1773446399@taihei-drone.com
SUMMARY:産業用ドローンコース【農業・点検コース教習】
DESCRIPTION:
URL:https://taihei-drone.com/event/%e7%94%a3%e6%a5%ad%e7%94%a8%e3%83%89%e3%83%ad%e3%83%bc%e3%83%b3%e3%82%b3%e3%83%bc%e3%82%b9%e3%80%90%e8%be%b2%e6%a5%ad%e3%83%bb%e7%82%b9%e6%a4%9c%e3%82%b3%e3%83%bc%e3%82%b9%e6%95%99%e7%bf%92%e3%80%91-8/
LOCATION:八郎潟太平自動車学校\, 真坂字鳥屋崎33\, 南秋田郡八郎潟町\, 秋田県\, 018-1601\, Japan
CATEGORIES:産業用ドローン
ORGANIZER;CN="%E7%A7%8B%E7%94%B0%E5%A4%AA%E5%B9%B3%E3%83%89%E3%83%AD%E3%83%BC%E3%83%B3%E3%82%B9%E3%82%AF%E3%83%BC%E3%83%AB":MAILTO:info@taihei-drone.com
END:VEVENT
BEGIN:VEVENT
DTSTART;TZID=Asia/Tokyo:20260308T100000
DTEND;TZID=Asia/Tokyo:20260308T153000
DTSTAMP:20260420T150633
CREATED:20250906T024134Z
LAST-MODIFIED:20250906T024134Z
UID:5953-1772964000-1772983800@taihei-drone.com
SUMMARY:空撮無料説明会（午前・午後）
DESCRIPTION:午前10：00～12：00 \n午後13：30～15：30
URL:https://taihei-drone.com/event/%e7%a9%ba%e6%92%ae%e7%84%a1%e6%96%99%e8%aa%ac%e6%98%8e%e4%bc%9a%ef%bc%88%e5%8d%88%e5%89%8d%e3%83%bb%e5%8d%88%e5%be%8c%ef%bc%89-9/
LOCATION:秋田太平自動車学校\, 寺内高野１１−１\, 秋田市\, 秋田県\, 011-0937\, Japan
CATEGORIES:無料説明会
ORGANIZER;CN="%E7%A7%8B%E7%94%B0%E5%A4%AA%E5%B9%B3%E3%83%89%E3%83%AD%E3%83%BC%E3%83%B3%E3%82%B9%E3%82%AF%E3%83%BC%E3%83%AB":MAILTO:info@taihei-drone.com
END:VEVENT
BEGIN:VEVENT
DTSTART;VALUE=DATE:20260303
DTEND;VALUE=DATE:20260307
DTSTAMP:20260420T150633
CREATED:20250906T025320Z
LAST-MODIFIED:20250906T025320Z
UID:5972-1772496000-1772841599@taihei-drone.com
SUMMARY:国家ライセンス初学者コース【４～５日間】
DESCRIPTION:
URL:https://taihei-drone.com/event/%e5%9b%bd%e5%ae%b6%e3%83%a9%e3%82%a4%e3%82%bb%e3%83%b3%e3%82%b9%e5%88%9d%e5%ad%a6%e8%80%85%e3%82%b3%e3%83%bc%e3%82%b9%e3%80%90%ef%bc%94%ef%bd%9e%ef%bc%95%e6%97%a5%e9%96%93%e3%80%91-10/
LOCATION:秋田太平自動車学校\, 寺内高野１１−１\, 秋田市\, 秋田県\, 011-0937\, Japan
CATEGORIES:国家ライセンス初学者
ORGANIZER;CN="%E7%A7%8B%E7%94%B0%E5%A4%AA%E5%B9%B3%E3%83%89%E3%83%AD%E3%83%BC%E3%83%B3%E3%82%B9%E3%82%AF%E3%83%BC%E3%83%AB":MAILTO:info@taihei-drone.com
END:VEVENT
BEGIN:VEVENT
DTSTART;VALUE=DATE:20260224
DTEND;VALUE=DATE:20260228
DTSTAMP:20260420T150633
CREATED:20250906T025217Z
LAST-MODIFIED:20250906T025217Z
UID:5973-1771891200-1772236799@taihei-drone.com
SUMMARY:国家ライセンス初学者コース【４～５日間】
DESCRIPTION:
URL:https://taihei-drone.com/event/%e5%9b%bd%e5%ae%b6%e3%83%a9%e3%82%a4%e3%82%bb%e3%83%b3%e3%82%b9%e5%88%9d%e5%ad%a6%e8%80%85%e3%82%b3%e3%83%bc%e3%82%b9%e3%80%90%ef%bc%94%ef%bd%9e%ef%bc%95%e6%97%a5%e9%96%93%e3%80%91-9/
LOCATION:秋田太平自動車学校\, 寺内高野１１−１\, 秋田市\, 秋田県\, 011-0937\, Japan
CATEGORIES:国家ライセンス初学者
ORGANIZER;CN="%E7%A7%8B%E7%94%B0%E5%A4%AA%E5%B9%B3%E3%83%89%E3%83%AD%E3%83%BC%E3%83%B3%E3%82%B9%E3%82%AF%E3%83%BC%E3%83%AB":MAILTO:info@taihei-drone.com
END:VEVENT
BEGIN:VEVENT
DTSTART;TZID=Asia/Tokyo:20260218T100000
DTEND;TZID=Asia/Tokyo:20260218T153000
DTSTAMP:20260420T150633
CREATED:20250906T024054Z
LAST-MODIFIED:20250906T024054Z
UID:5954-1771408800-1771428600@taihei-drone.com
SUMMARY:空撮無料説明会（午前・午後）
DESCRIPTION:午前10：00～12：00 \n午後13：30～15：30
URL:https://taihei-drone.com/event/%e7%a9%ba%e6%92%ae%e7%84%a1%e6%96%99%e8%aa%ac%e6%98%8e%e4%bc%9a%ef%bc%88%e5%8d%88%e5%89%8d%e3%83%bb%e5%8d%88%e5%be%8c%ef%bc%89-8/
LOCATION:秋田太平自動車学校\, 寺内高野１１−１\, 秋田市\, 秋田県\, 011-0937\, Japan
CATEGORIES:無料説明会
ORGANIZER;CN="%E7%A7%8B%E7%94%B0%E5%A4%AA%E5%B9%B3%E3%83%89%E3%83%AD%E3%83%BC%E3%83%B3%E3%82%B9%E3%82%AF%E3%83%BC%E3%83%AB":MAILTO:info@taihei-drone.com
END:VEVENT
BEGIN:VEVENT
DTSTART;VALUE=DATE:20260209
DTEND;VALUE=DATE:20260214
DTSTAMP:20260420T150633
CREATED:20250906T031717Z
LAST-MODIFIED:20250906T031717Z
UID:5999-1770595200-1771027199@taihei-drone.com
SUMMARY:産業用ドローンコース【農業・点検コース教習】
DESCRIPTION:
URL:https://taihei-drone.com/event/%e7%94%a3%e6%a5%ad%e7%94%a8%e3%83%89%e3%83%ad%e3%83%bc%e3%83%b3%e3%82%b3%e3%83%bc%e3%82%b9%e3%80%90%e8%be%b2%e6%a5%ad%e3%83%bb%e7%82%b9%e6%a4%9c%e3%82%b3%e3%83%bc%e3%82%b9%e6%95%99%e7%bf%92%e3%80%91-6/
LOCATION:八郎潟太平自動車学校\, 真坂字鳥屋崎33\, 南秋田郡八郎潟町\, 秋田県\, 018-1601\, Japan
CATEGORIES:産業用ドローン
ORGANIZER;CN="%E7%A7%8B%E7%94%B0%E5%A4%AA%E5%B9%B3%E3%83%89%E3%83%AD%E3%83%BC%E3%83%B3%E3%82%B9%E3%82%AF%E3%83%BC%E3%83%AB":MAILTO:info@taihei-drone.com
END:VEVENT
BEGIN:VEVENT
DTSTART;TZID=Asia/Tokyo:20260207T100000
DTEND;TZID=Asia/Tokyo:20260207T153000
DTSTAMP:20260420T150633
CREATED:20250906T024029Z
LAST-MODIFIED:20250906T024029Z
UID:5955-1770458400-1770478200@taihei-drone.com
SUMMARY:空撮無料説明会（午前・午後）
DESCRIPTION:午前10：00～12：00 \n午後13：30～15：30
URL:https://taihei-drone.com/event/%e7%a9%ba%e6%92%ae%e7%84%a1%e6%96%99%e8%aa%ac%e6%98%8e%e4%bc%9a%ef%bc%88%e5%8d%88%e5%89%8d%e3%83%bb%e5%8d%88%e5%be%8c%ef%bc%89-7/
LOCATION:秋田太平自動車学校\, 寺内高野１１−１\, 秋田市\, 秋田県\, 011-0937\, Japan
CATEGORIES:無料説明会
ORGANIZER;CN="%E7%A7%8B%E7%94%B0%E5%A4%AA%E5%B9%B3%E3%83%89%E3%83%AD%E3%83%BC%E3%83%B3%E3%82%B9%E3%82%AF%E3%83%BC%E3%83%AB":MAILTO:info@taihei-drone.com
END:VEVENT
BEGIN:VEVENT
DTSTART;VALUE=DATE:20260203
DTEND;VALUE=DATE:20260207
DTSTAMP:20260420T150633
CREATED:20250906T025128Z
LAST-MODIFIED:20250906T025128Z
UID:5974-1770076800-1770422399@taihei-drone.com
SUMMARY:国家ライセンス初学者コース【４～５日間】
DESCRIPTION:
URL:https://taihei-drone.com/event/%e5%9b%bd%e5%ae%b6%e3%83%a9%e3%82%a4%e3%82%bb%e3%83%b3%e3%82%b9%e5%88%9d%e5%ad%a6%e8%80%85%e3%82%b3%e3%83%bc%e3%82%b9%e3%80%90%ef%bc%94%ef%bd%9e%ef%bc%95%e6%97%a5%e9%96%93%e3%80%91-7/
LOCATION:秋田太平自動車学校\, 寺内高野１１−１\, 秋田市\, 秋田県\, 011-0937\, Japan
CATEGORIES:国家ライセンス初学者
ORGANIZER;CN="%E7%A7%8B%E7%94%B0%E5%A4%AA%E5%B9%B3%E3%83%89%E3%83%AD%E3%83%BC%E3%83%B3%E3%82%B9%E3%82%AF%E3%83%BC%E3%83%AB":MAILTO:info@taihei-drone.com
END:VEVENT
BEGIN:VEVENT
DTSTART;VALUE=DATE:20260127
DTEND;VALUE=DATE:20260131
DTSTAMP:20260420T150633
CREATED:20250906T025107Z
LAST-MODIFIED:20250906T025107Z
UID:5975-1769472000-1769817599@taihei-drone.com
SUMMARY:国家ライセンス初学者コース【４～５日間】
DESCRIPTION:
URL:https://taihei-drone.com/event/%e5%9b%bd%e5%ae%b6%e3%83%a9%e3%82%a4%e3%82%bb%e3%83%b3%e3%82%b9%e5%88%9d%e5%ad%a6%e8%80%85%e3%82%b3%e3%83%bc%e3%82%b9%e3%80%90%ef%bc%94%ef%bd%9e%ef%bc%95%e6%97%a5%e9%96%93%e3%80%91-6/
LOCATION:秋田太平自動車学校\, 寺内高野１１−１\, 秋田市\, 秋田県\, 011-0937\, Japan
CATEGORIES:国家ライセンス初学者
ORGANIZER;CN="%E7%A7%8B%E7%94%B0%E5%A4%AA%E5%B9%B3%E3%83%89%E3%83%AD%E3%83%BC%E3%83%B3%E3%82%B9%E3%82%AF%E3%83%BC%E3%83%AB":MAILTO:info@taihei-drone.com
END:VEVENT
BEGIN:VEVENT
DTSTART;TZID=Asia/Tokyo:20260123T100000
DTEND;TZID=Asia/Tokyo:20260123T153000
DTSTAMP:20260420T150633
CREATED:20250906T023935Z
LAST-MODIFIED:20250906T023935Z
UID:5952-1769162400-1769182200@taihei-drone.com
SUMMARY:空撮無料説明会（午前・午後）
DESCRIPTION:午前10：00～12：00 \n午後13：30～15：30
URL:https://taihei-drone.com/event/%e7%a9%ba%e6%92%ae%e7%84%a1%e6%96%99%e8%aa%ac%e6%98%8e%e4%bc%9a%ef%bc%88%e5%8d%88%e5%89%8d%e3%83%bb%e5%8d%88%e5%be%8c%ef%bc%89-6/
LOCATION:秋田太平自動車学校\, 寺内高野１１−１\, 秋田市\, 秋田県\, 011-0937\, Japan
CATEGORIES:無料説明会
ORGANIZER;CN="%E7%A7%8B%E7%94%B0%E5%A4%AA%E5%B9%B3%E3%83%89%E3%83%AD%E3%83%BC%E3%83%B3%E3%82%B9%E3%82%AF%E3%83%BC%E3%83%AB":MAILTO:info@taihei-drone.com
END:VEVENT
BEGIN:VEVENT
DTSTART;VALUE=DATE:20251227
DTEND;VALUE=DATE:20260105
DTSTAMP:20260420T150633
CREATED:20250906T023631Z
LAST-MODIFIED:20250906T023631Z
UID:5949-1766793600-1767571199@taihei-drone.com
SUMMARY:休校（年末年始）
DESCRIPTION:
URL:https://taihei-drone.com/event/%e4%bc%91%e6%a0%a1%ef%bc%88%e5%b9%b4%e6%9c%ab%e5%b9%b4%e5%a7%8b%ef%bc%89-2/
LOCATION:秋田県
CATEGORIES:休校
END:VEVENT
BEGIN:VEVENT
DTSTART;VALUE=DATE:20241228
DTEND;VALUE=DATE:20250106
DTSTAMP:20260420T150633
CREATED:20241113T232119Z
LAST-MODIFIED:20241113T232119Z
UID:5658-1735344000-1736121599@taihei-drone.com
SUMMARY:休校（年末年始）
DESCRIPTION:
URL:https://taihei-drone.com/event/%e4%bc%91%e6%a0%a1%ef%bc%88%e5%b9%b4%e6%9c%ab%e5%b9%b4%e5%a7%8b%ef%bc%89/
LOCATION:秋田県
CATEGORIES:休校
END:VEVENT
END:VCALENDAR