BEGIN:VCALENDAR
VERSION:2.0
PRODID:-//秋田太平ドローン - ECPv6.15.20//NONSGML v1.0//EN
CALSCALE:GREGORIAN
METHOD:PUBLISH
X-ORIGINAL-URL:https://taihei-drone.com
X-WR-CALDESC:秋田太平ドローン のイベント
REFRESH-INTERVAL;VALUE=DURATION:PT1H
X-Robots-Tag:noindex
X-PUBLISHED-TTL:PT1H
BEGIN:VTIMEZONE
TZID:Asia/Tokyo
BEGIN:STANDARD
TZOFFSETFROM:+0900
TZOFFSETTO:+0900
TZNAME:JST
DTSTART:20240101T000000
END:STANDARD
END:VTIMEZONE
BEGIN:VEVENT
DTSTART;VALUE=DATE:20251227
DTEND;VALUE=DATE:20260105
DTSTAMP:20260420T163454
CREATED:20250906T023631Z
LAST-MODIFIED:20250906T023631Z
UID:5949-1766793600-1767571199@taihei-drone.com
SUMMARY:休校（年末年始）
DESCRIPTION:
URL:https://taihei-drone.com/event/%e4%bc%91%e6%a0%a1%ef%bc%88%e5%b9%b4%e6%9c%ab%e5%b9%b4%e5%a7%8b%ef%bc%89-2/
LOCATION:秋田県
CATEGORIES:休校
END:VEVENT
BEGIN:VEVENT
DTSTART;TZID=Asia/Tokyo:20260123T100000
DTEND;TZID=Asia/Tokyo:20260123T153000
DTSTAMP:20260420T163454
CREATED:20250906T023935Z
LAST-MODIFIED:20250906T023935Z
UID:5952-1769162400-1769182200@taihei-drone.com
SUMMARY:空撮無料説明会（午前・午後）
DESCRIPTION:午前10：00～12：00 \n午後13：30～15：30
URL:https://taihei-drone.com/event/%e7%a9%ba%e6%92%ae%e7%84%a1%e6%96%99%e8%aa%ac%e6%98%8e%e4%bc%9a%ef%bc%88%e5%8d%88%e5%89%8d%e3%83%bb%e5%8d%88%e5%be%8c%ef%bc%89-6/
LOCATION:秋田太平自動車学校\, 寺内高野１１−１\, 秋田市\, 秋田県\, 011-0937\, Japan
CATEGORIES:無料説明会
ORGANIZER;CN="%E7%A7%8B%E7%94%B0%E5%A4%AA%E5%B9%B3%E3%83%89%E3%83%AD%E3%83%BC%E3%83%B3%E3%82%B9%E3%82%AF%E3%83%BC%E3%83%AB":MAILTO:info@taihei-drone.com
END:VEVENT
BEGIN:VEVENT
DTSTART;VALUE=DATE:20260127
DTEND;VALUE=DATE:20260131
DTSTAMP:20260420T163454
CREATED:20250906T025107Z
LAST-MODIFIED:20250906T025107Z
UID:5975-1769472000-1769817599@taihei-drone.com
SUMMARY:国家ライセンス初学者コース【４～５日間】
DESCRIPTION:
URL:https://taihei-drone.com/event/%e5%9b%bd%e5%ae%b6%e3%83%a9%e3%82%a4%e3%82%bb%e3%83%b3%e3%82%b9%e5%88%9d%e5%ad%a6%e8%80%85%e3%82%b3%e3%83%bc%e3%82%b9%e3%80%90%ef%bc%94%ef%bd%9e%ef%bc%95%e6%97%a5%e9%96%93%e3%80%91-6/
LOCATION:秋田太平自動車学校\, 寺内高野１１−１\, 秋田市\, 秋田県\, 011-0937\, Japan
CATEGORIES:国家ライセンス初学者
ORGANIZER;CN="%E7%A7%8B%E7%94%B0%E5%A4%AA%E5%B9%B3%E3%83%89%E3%83%AD%E3%83%BC%E3%83%B3%E3%82%B9%E3%82%AF%E3%83%BC%E3%83%AB":MAILTO:info@taihei-drone.com
END:VEVENT
END:VCALENDAR